BEGIN:VCALENDAR
VERSION:2.0
PRODID:-//www.dayspringky.org//NONSGML kigkonsult.se iCalcreator 2.30.10//
CALSCALE:GREGORIAN
METHOD:PUBLISH
UID:1632f04d-8b82-45e9-96a9-461326fb91ce
X-WR-CALDESC:Embrace the Spirit of Hope! Show your love to Day Spring by ch
 oosing to be a monthly contributor. Every dollar raised during this impact
 ful two-week event will directly uplift the lives of individuals residing 
 at Day Spring. Imagine the collective power: 30 more individuals contribut
 ing $25 each month adds up to an extra $9\,000 annually. Join us in sparki
 ng a lasting impact! \n\n$10 A MONTH - Your $10 monthly donation will help
  pay for the gas necessary for residents to make it to medical appointment
 s and social outings. Supporting Day Spring ensures everyone has access to
  the opportunities they deserve. Your generosity drives positive change! C
 ommit to giving $10 a month and you’ll receive a calendar magnet.  \n\n$25
  A MONTH - Your $25 monthly donation doesn't just buy groceries\; it susta
 ins modified diets and ensures preferred foods for Day Spring residents. I
 n the face of economic inflation\, your support is a lifeline. Your genero
 sity nourishes lives! Commit to giving $25 a month and you’ll receive a fr
 ee Day Spring tee shirt.\n\n$50 A MONTH - Your $50 monthly donation transf
 orms into memorable social outings and Arts & Wellness events\, empowering
  residents to explore interests\, unleash creativity\, and foster communit
 y connections in Louisville. Arts and Wellness currently partners with Act
 ors Theater of Louisville\, Highview Arts Center\, Community Foundation of
  Louisville etc. and is always looking to expand our network. Your generos
 ity creates vibrant experiences! Commit to giving $50 a month and you’ll r
 eceive a sweatshirt or tumbler.\n\n$100 A MONTH - Your $100 monthly donati
 on to funds the maintenance needed to keep all six of our residential home
 s safe\, dignified\, and beautiful places for residents to live. Your dona
 tion will cover part of that cost to keep Day Spring homes as beautiful as
  yours all year round. Your support builds a beautiful community! Commit t
 o giving $100 a month and you’ll receive a sweatshirt or tumbler.
X-WR-RELCALID:e428784ac5f9f97bfc67ed9127e8aa20
X-WR-TIMEZONE:America/Chicago
BEGIN:VTIMEZONE
TZID:America/Chicago
BEGIN:STANDARD
TZNAME:CST
DTSTART:20231105T020000
TZOFFSETFROM:-0500
TZOFFSETTO:-0600
RDATE:20241103T020000
END:STANDARD
BEGIN:DAYLIGHT
TZNAME:CDT
DTSTART:20230312T020000
TZOFFSETFROM:-0600
TZOFFSETTO:-0500
RDATE:20240310T020000
RDATE:20250309T020000
END:DAYLIGHT
END:VTIMEZONE
BEGIN:VEVENT
UID:57e1a61d-0a96-4cd7-948f-26fdb90a441f
DTSTAMP:20260419T193600Z
DESCRIPTION:Embrace the Spirit of Hope! Show your love to Day Spring by cho
 osing to be a monthly contributor. Every dollar raised during this impactf
 ul two-week event will directly uplift the lives of individuals residing a
 t Day Spring. Imagine the collective power: 30 more individuals contributi
 ng $25 each month adds up to an extra $9\,000 annually. Join us in sparkin
 g a lasting impact! \n\n$10 A MONTH - Your $10 monthly donation will help 
 pay for the gas necessary for residents to make it to medical appointments
  and social outings. Supporting Day Spring ensures everyone has access to 
 the opportunities they deserve. Your generosity drives positive change! Co
 mmit to giving $10 a month and you’ll receive a calendar magnet.  \n\n$25 
 A MONTH - Your $25 monthly donation doesn't just buy groceries\; it sustai
 ns modified diets and ensures preferred foods for Day Spring residents. In
  the face of economic inflation\, your support is a lifeline. Your generos
 ity nourishes lives! Commit to giving $25 a month and you’ll receive a fre
 e Day Spring tee shirt.\n\n$50 A MONTH - Your $50 monthly donation transfo
 rms into memorable social outings and Arts & Wellness events\, empowering 
 residents to explore interests\, unleash creativity\, and foster community
  connections in Louisville. Arts and Wellness currently partners with Acto
 rs Theater of Louisville\, Highview Arts Center\, Community Foundation of 
 Louisville etc. and is always looking to expand our network. Your generosi
 ty creates vibrant experiences! Commit to giving $50 a month and you’ll re
 ceive a sweatshirt or tumbler.\n\n$100 A MONTH - Your $100 monthly donatio
 n to funds the maintenance needed to keep all six of our residential homes
  safe\, dignified\, and beautiful places for residents to live. Your donat
 ion will cover part of that cost to keep Day Spring homes as beautiful as 
 yours all year round. Your support builds a beautiful community! Commit to
  giving $100 a month and you’ll receive a sweatshirt or tumbler.
DTSTART;TZID=America/Chicago:20240201T050000
DTEND;TZID=America/Chicago:20240214T050001
LOCATION:3430 Day Spring Ct\, louisville\, KY 40203 US
SUMMARY:Monthly Giving Campaign
END:VEVENT
END:VCALENDAR
