BEGIN:VCALENDAR
VERSION:2.0
PRODID:-//www.dayspringky.org//NONSGML kigkonsult.se iCalcreator 2.30.10//
CALSCALE:GREGORIAN
METHOD:PUBLISH
UID:f8ec2f3d-fe9e-4af8-8447-0a009df9dff8
X-WR-CALDESC:Day Spring is delighted to partner with Kendra Scott for the V
 alentines Day themed event Sips and Sweets! 20% of all proceeds will direc
 tly support Day Spring. Shop and enjoy the season of love for a great caus
 e!
X-WR-RELCALID:be2c9b7acaf28bbe9abee96df1c8a978
X-WR-TIMEZONE:America/New_York
BEGIN:VTIMEZONE
TZID:America/New_York
BEGIN:STANDARD
TZNAME:EST
DTSTART:20231105T020000
TZOFFSETFROM:-0400
TZOFFSETTO:-0500
RDATE:20241103T020000
END:STANDARD
BEGIN:DAYLIGHT
TZNAME:EDT
DTSTART:20230312T020000
TZOFFSETFROM:-0500
TZOFFSETTO:-0400
RDATE:20240310T020000
RDATE:20250309T020000
END:DAYLIGHT
END:VTIMEZONE
BEGIN:VEVENT
UID:25b26d44-5066-49d8-9c81-cbf9c83ae273
DTSTAMP:20260419T173902Z
DESCRIPTION:Day Spring is delighted to partner with Kendra Scott for the Va
 lentines Day themed event Sips and Sweets! 20% of all proceeds will direct
 ly support Day Spring. Shop and enjoy the season of love for a great cause
 !
DTSTART;TZID=America/New_York:20240210T120000
DTEND;TZID=America/New_York:20240210T140000
LOCATION:Kendra Scott in Oxmoor Mall (7900 Shelbyville Rd\, Louisville\, KY
  40222)\, louisville\, KY 40203 US
SUMMARY:Valentines Sips and Sweets with Kendra Scott
END:VEVENT
END:VCALENDAR
