BEGIN:VCALENDAR
VERSION:2.0
PRODID:-//www.dayspringky.org//NONSGML kigkonsult.se iCalcreator 2.30.10//
CALSCALE:GREGORIAN
METHOD:PUBLISH
UID:52dff294-9d6e-4ced-bfb6-4e4f71322b6f
X-WR-CALDESC:Join us for the 3rd Annual Day Spring Fling! A day full of com
 munity service activities that will help beautify our campus and residenti
 al properties.\n\nAs of 3/20/24 the 8am-12pm volunteer slot is at FULL CAP
 ACITY. Corporate and community volunteers are all welcome to come from 12p
 m-5pm!
X-WR-RELCALID:4f8f49b9239f29e2b700465088e81452
X-WR-TIMEZONE:America/New_York
BEGIN:VTIMEZONE
TZID:America/New_York
BEGIN:STANDARD
TZNAME:EST
DTSTART:20231105T020000
TZOFFSETFROM:-0400
TZOFFSETTO:-0500
RDATE:20241103T020000
END:STANDARD
BEGIN:DAYLIGHT
TZNAME:EDT
DTSTART:20240310T020000
TZOFFSETFROM:-0500
TZOFFSETTO:-0400
RDATE:20250309T020000
END:DAYLIGHT
END:VTIMEZONE
BEGIN:VEVENT
UID:7ecaaccd-a9bc-41b9-ae47-20a8383437d6
DTSTAMP:20260419T174208Z
DESCRIPTION:Join us for the 3rd Annual Day Spring Fling! A day full of comm
 unity service activities that will help beautify our campus and residentia
 l properties.\n\nAs of 3/20/24 the 8am-12pm volunteer slot is at FULL CAPA
 CITY. Corporate and community volunteers are all welcome to come from 12pm
 -5pm!
DTSTART;TZID=America/New_York:20240412T080000
DTEND;TZID=America/New_York:20240412T170000
LOCATION:3430 Day Spring Ct\, louisville\, KY 40205 US
SUMMARY:Day Spring Fling 2024
END:VEVENT
END:VCALENDAR
