BEGIN:VCALENDAR
VERSION:2.0
PRODID:-//www.dayspringky.org//NONSGML kigkonsult.se iCalcreator 2.30.10//
CALSCALE:GREGORIAN
METHOD:PUBLISH
UID:5019718a-44cc-4f80-8e50-b7a481eddb5d
X-WR-CALDESC:Please support Day Spring at The Horizon of Hope Gala on Satur
 day May 18\, 2024 at Kentucky Derby Museum as we celebrate 30 years of pro
 viding homes and unconditional love for people with disabilities. We will 
 celebrate three decades of success and toast for success in the future. Al
 l funds will directly benefit residential supports and services that empow
 er people with disabilities to live joyful and fulfilling lives.
X-WR-RELCALID:79cfb6ebd7b6046a841b44cda2310715
X-WR-TIMEZONE:America/New_York
BEGIN:VTIMEZONE
TZID:America/New_York
BEGIN:STANDARD
TZNAME:EST
DTSTART:20231105T020000
TZOFFSETFROM:-0400
TZOFFSETTO:-0500
RDATE:20241103T020000
RDATE:20251102T020000
END:STANDARD
BEGIN:DAYLIGHT
TZNAME:EDT
DTSTART:20240310T020000
TZOFFSETFROM:-0500
TZOFFSETTO:-0400
RDATE:20250309T020000
END:DAYLIGHT
END:VTIMEZONE
BEGIN:VEVENT
UID:17f046ef-874a-456c-80b4-e74522c0c9df
DTSTAMP:20260419T173351Z
DESCRIPTION:Please support Day Spring at The Horizon of Hope Gala on Saturd
 ay May 18\, 2024 at Kentucky Derby Museum as we celebrate 30 years of prov
 iding homes and unconditional love for people with disabilities. We will c
 elebrate three decades of success and toast for success in the future. All
  funds will directly benefit residential supports and services that empowe
 r people with disabilities to live joyful and fulfilling lives.
DTSTART;TZID=America/New_York:20240518T173000
DTEND;TZID=America/New_York:20240518T213000
LOCATION:704 central ave\, louisville\, KY 40208 US
SUMMARY:Horizon of Hope Gala
END:VEVENT
END:VCALENDAR
