BEGIN:VCALENDAR
VERSION:2.0
PRODID:-//www.dayspringky.org//NONSGML kigkonsult.se iCalcreator 2.30.10//
CALSCALE:GREGORIAN
METHOD:PUBLISH
UID:aab428c2-af71-4051-b49c-f13007a947f9
X-WR-CALDESC:Head out to Tee it Up Golf on August 24th and enjoy a golf sim
 ulator\, food\, drinks\, and all proceeds from bay rentals will go to Day 
 Spring!\n\nTee it Up is completely indoors so you are protected from the h
 eat or rain and offers arcade games to keep the whole family entertained. 
 Remember to bring all your clubs\, including your putter. \n\nTo Reserve a
  bay call: 502.384.0966\, or reserve online at Teeitupgolfusa.com
X-WR-RELCALID:f0ab137ad07268343dd31fcb76110995
X-WR-TIMEZONE:America/Chicago
BEGIN:VTIMEZONE
TZID:America/Chicago
BEGIN:STANDARD
TZNAME:CST
DTSTART:20231105T020000
TZOFFSETFROM:-0500
TZOFFSETTO:-0600
RDATE:20241103T020000
RDATE:20251102T020000
END:STANDARD
BEGIN:DAYLIGHT
TZNAME:CDT
DTSTART:20240310T020000
TZOFFSETFROM:-0600
TZOFFSETTO:-0500
RDATE:20250309T020000
END:DAYLIGHT
END:VTIMEZONE
BEGIN:VEVENT
UID:c29ca847-9d50-4fac-806f-8e7c34f0c7f2
DTSTAMP:20260419T173453Z
DESCRIPTION:Head out to Tee it Up Golf on August 24th and enjoy a golf simu
 lator\, food\, drinks\, and all proceeds from bay rentals will go to Day S
 pring!\n\nTee it Up is completely indoors so you are protected from the he
 at or rain and offers arcade games to keep the whole family entertained. R
 emember to bring all your clubs\, including your putter. \n\nTo Reserve a 
 bay call: 502.384.0966\, or reserve online at Teeitupgolfusa.com
DTSTART;TZID=America/Chicago:20240824T050000
DTEND;TZID=America/Chicago:20240824T050001
LOCATION:201 Blankenbaker Pkwy\,\, Douglass Hills\, KY 40243 US
SUMMARY:Tee it Up Golf Donation Day
END:VEVENT
END:VCALENDAR
