BEGIN:VCALENDAR
VERSION:2.0
PRODID:-//www.dayspringky.org//NONSGML kigkonsult.se iCalcreator 2.30.10//
CALSCALE:GREGORIAN
METHOD:PUBLISH
UID:3912e060-6a2f-4f56-8c11-1084b33d6b6d
X-WR-CALDESC:We’re excited to invite you to participate in Day Spring’s Spl
 it the Pot Raffle\, offering you a chance to win up to $5\,000! Whether or
  not you’re able to attend our upcoming golf scramble\, you can still join
  in the fun and support a great cause.\n\nHere’s how it works:\nONLY 155 T
 ICKETS AVAILABLE: Your odds of winning are high!\nTicket Price: $100 per e
 ntry.\n\nDrawing Details: The drawing will take place on October 14\, 2024
  at Wildwood Country Club. Need not be present to win. You can watch the d
 rawing live on Day Spring's Facebook page at facebook.com/dayspringky/ at 
 6:00 PM EDT. \n\nWinner Notification: After you register\, you’ll receive 
 a physical ticket in the mail with your unique ticket number\, so keep an 
 eye out for it! If you’re the lucky winner\, we’ll notify you via phone ca
 ll and email.\n\nDon’t miss this fantastic opportunity to win big while su
 pporting Day Spring’s mission to enrich the lives of adults with intellect
 ual and developmental disabilities.\nThank you for your support\, and good
  luck!\n\nImportant Note: If the winner doesn’t respond within three weeks
 \, a new winner will be selected.
X-WR-RELCALID:6001f13e742fa65fb951035a6accd2ab
X-WR-TIMEZONE:America/Chicago
BEGIN:VTIMEZONE
TZID:America/Chicago
BEGIN:STANDARD
TZNAME:CST
DTSTART:20231105T020000
TZOFFSETFROM:-0500
TZOFFSETTO:-0600
RDATE:20241103T020000
RDATE:20251102T020000
END:STANDARD
BEGIN:DAYLIGHT
TZNAME:CDT
DTSTART:20240310T020000
TZOFFSETFROM:-0600
TZOFFSETTO:-0500
RDATE:20250309T020000
END:DAYLIGHT
END:VTIMEZONE
BEGIN:VEVENT
UID:be153afa-3187-4000-9f4b-57301ddb0870
DTSTAMP:20260419T192237Z
DESCRIPTION:We’re excited to invite you to participate in Day Spring’s Spli
 t the Pot Raffle\, offering you a chance to win up to $5\,000! Whether or 
 not you’re able to attend our upcoming golf scramble\, you can still join 
 in the fun and support a great cause.\n\nHere’s how it works:\nONLY 155 TI
 CKETS AVAILABLE: Your odds of winning are high!\nTicket Price: $100 per en
 try.\n\nDrawing Details: The drawing will take place on October 14\, 2024 
 at Wildwood Country Club. Need not be present to win. You can watch the dr
 awing live on Day Spring's Facebook page at facebook.com/dayspringky/ at 6
 :00 PM EDT. \n\nWinner Notification: After you register\, you’ll receive a
  physical ticket in the mail with your unique ticket number\, so keep an e
 ye out for it! If you’re the lucky winner\, we’ll notify you via phone cal
 l and email.\n\nDon’t miss this fantastic opportunity to win big while sup
 porting Day Spring’s mission to enrich the lives of adults with intellectu
 al and developmental disabilities.\nThank you for your support\, and good 
 luck!\n\nImportant Note: If the winner doesn’t respond within three weeks\
 , a new winner will be selected.
DTSTART;TZID=America/Chicago:20240827T050000
DTEND;TZID=America/Chicago:20241014T050001
LOCATION:
SUMMARY:Split the Pot Raffle
END:VEVENT
END:VCALENDAR
