BEGIN:VCALENDAR
VERSION:2.0
PRODID:-//www.dayspringky.org//NONSGML kigkonsult.se iCalcreator 2.30.10//
CALSCALE:GREGORIAN
METHOD:PUBLISH
UID:9ffa0ae0-4fad-4cff-99a7-4c171263f725
X-WR-CALDESC:Every year the Community Foundation of Louisville hosts the ar
 ea’s biggest day of giving and it's set to return for the 11th year on Thu
 rsday\, September 12\, 2024. \n\nGive for Good Louisville is more than jus
 t an online giving day. It's our community's way of showing up and showing
  out for each other by celebrating nonprofit organizations that provide es
 sential resources to thousands of people across Kentucky and Southern Indi
 ana daily. \n\nClick the link to visit our giving page: https://www.givefo
 rgoodlouisville.org/organization/day-spring-cfl
X-WR-RELCALID:2fc71f9791a37469bb70ffc8a522ba69
X-WR-TIMEZONE:America/Chicago
BEGIN:VTIMEZONE
TZID:America/Chicago
BEGIN:STANDARD
TZNAME:CST
DTSTART:20231105T020000
TZOFFSETFROM:-0500
TZOFFSETTO:-0600
RDATE:20241103T020000
RDATE:20251102T020000
END:STANDARD
BEGIN:DAYLIGHT
TZNAME:CDT
DTSTART:20240310T020000
TZOFFSETFROM:-0600
TZOFFSETTO:-0500
RDATE:20250309T020000
RDATE:20260308T020000
END:DAYLIGHT
END:VTIMEZONE
BEGIN:VEVENT
UID:4df16ec3-b3c4-4602-8808-6035fd145620
DTSTAMP:20260419T174218Z
DESCRIPTION:Every year the Community Foundation of Louisville hosts the are
 a’s biggest day of giving and it's set to return for the 11th year on Thur
 sday\, September 12\, 2024. \n\nGive for Good Louisville is more than just
  an online giving day. It's our community's way of showing up and showing 
 out for each other by celebrating nonprofit organizations that provide ess
 ential resources to thousands of people across Kentucky and Southern India
 na daily. \n\nClick the link to visit our giving page: https://www.givefor
 goodlouisville.org/organization/day-spring-cfl
DTSTART;TZID=America/Chicago:20240912T050000
DTEND;TZID=America/Chicago:20240912T050001
LOCATION:https://www.giveforgoodlouisville.org/organization/day-spring-cfl
SUMMARY:Give for Good Louisville
END:VEVENT
END:VCALENDAR
