BEGIN:VCALENDAR
VERSION:2.0
PRODID:-//www.dayspringky.org//NONSGML kigkonsult.se iCalcreator 2.30.10//
CALSCALE:GREGORIAN
METHOD:PUBLISH
UID:81b52d76-362b-4247-a97c-b3267f5f107b
X-WR-CALDESC:Save the date for our annual Day Spring Golf Scramble on Octob
 er 14th!\n\nLook out for registration opening and sponsorship opportunitie
 s coming soon. 
X-WR-RELCALID:d9baa5e489d79e4206f6dbe0c31e0603
X-WR-TIMEZONE:America/Chicago
BEGIN:VTIMEZONE
TZID:America/Chicago
BEGIN:STANDARD
TZNAME:CST
DTSTART:20231105T020000
TZOFFSETFROM:-0500
TZOFFSETTO:-0600
RDATE:20241103T020000
RDATE:20251102T020000
END:STANDARD
BEGIN:DAYLIGHT
TZNAME:CDT
DTSTART:20240310T020000
TZOFFSETFROM:-0600
TZOFFSETTO:-0500
RDATE:20250309T020000
RDATE:20260308T020000
END:DAYLIGHT
END:VTIMEZONE
BEGIN:VEVENT
UID:9972d23f-43a4-4d85-abce-1af0da13ee24
DTSTAMP:20260419T173205Z
DESCRIPTION:Save the date for our annual Day Spring Golf Scramble on Octobe
 r 14th!\n\nLook out for registration opening and sponsorship opportunities
  coming soon. 
DTSTART;TZID=America/Chicago:20241014T100000
DTEND;TZID=America/Chicago:20241014T180000
LOCATION:5000 Bardstown Rd\, \, Louisville\, KY 40291 US
SUMMARY:Annual Golf Scramble
END:VEVENT
END:VCALENDAR
