BEGIN:VCALENDAR
VERSION:2.0
PRODID:-//www.dayspringky.org//NONSGML kigkonsult.se iCalcreator 2.30.10//
CALSCALE:GREGORIAN
METHOD:PUBLISH
UID:a1d12bb6-c35a-495a-97ca-eb2be2828539
X-WR-CALDESC:Never had the opportunity to join a Day Spring lunch & learn? 
 Mark your calendar for Wednesday\, August 14th\, and join us from 12:00-1:
 00 p.m. Spend your lunch hour discovering all that Day Spring has to offer
 ! This is a fantastic opportunity to invite friends and colleagues who are
  also interested in our mission.\n\nWhether you're a current donor\, a for
 mer donor\, or considering making a donation\, come and learn how your con
 tributions make a difference. If you're interested in volunteering or join
 ing our board of directors\, this event is a perfect way to get started.\n
 \nWe look forward to seeing you there!
X-WR-RELCALID:b1b17ae6565a40b0df4fa980999acef8
X-WR-TIMEZONE:America/Chicago
BEGIN:VTIMEZONE
TZID:America/Chicago
BEGIN:STANDARD
TZNAME:CST
DTSTART:20241103T020000
TZOFFSETFROM:-0500
TZOFFSETTO:-0600
RDATE:20251102T020000
END:STANDARD
BEGIN:DAYLIGHT
TZNAME:CDT
DTSTART:20240310T020000
TZOFFSETFROM:-0600
TZOFFSETTO:-0500
RDATE:20250309T020000
RDATE:20260308T020000
END:DAYLIGHT
END:VTIMEZONE
BEGIN:VEVENT
UID:fa89dfc7-bc0f-483c-b9ba-3aee5d0c5580
DTSTAMP:20260419T174356Z
DESCRIPTION:Never had the opportunity to join a Day Spring lunch & learn? M
 ark your calendar for Wednesday\, August 14th\, and join us from 12:00-1:0
 0 p.m. Spend your lunch hour discovering all that Day Spring has to offer!
  This is a fantastic opportunity to invite friends and colleagues who are 
 also interested in our mission.\n\nWhether you're a current donor\, a form
 er donor\, or considering making a donation\, come and learn how your cont
 ributions make a difference. If you're interested in volunteering or joini
 ng our board of directors\, this event is a perfect way to get started.\n
 \nWe look forward to seeing you there!
DTSTART;TZID=America/Chicago:20241113T120000
DTEND;TZID=America/Chicago:20241113T130000
LOCATION:3430 Day Spring Ct\, Louisville\, KY 40213 US
SUMMARY:Lunch & Learn
END:VEVENT
END:VCALENDAR
