BEGIN:VCALENDAR
VERSION:2.0
PRODID:-//www.dayspringky.org//NONSGML kigkonsult.se iCalcreator 2.30.10//
CALSCALE:GREGORIAN
METHOD:PUBLISH
UID:c9ccd1b1-cadd-4dca-90fe-e1e2282e2641
X-WR-CALDESC:This GivingTuesday\, a global celebration of generosity\, we i
 nvite you to support Day Spring's mission of empowering adults with disabi
 lities to live joyful and fulfilling lives. This year\, instead of monetar
 y gifts\, we’re asking for donations from our wish list to help upgrade ou
 r six residential homes. With Black Friday and Cyber Monday deals right ar
 ound the corner\, keep Day Spring in mind during your holiday shopping and
  join us in spreading joy and empowerment this holiday season!\n\nYour con
 tributions will directly provide the supplies and tools needed to create s
 paces that foster comfort\, independence\, and community. At Day Spring\, 
 we believe a home is the foundation for how we perceive and engage with th
 e world. Together\, let’s make a meaningful impact this season of giving!
X-WR-RELCALID:5662a2816368b40b586d53a04ca27f00
X-WR-TIMEZONE:America/Chicago
BEGIN:VTIMEZONE
TZID:America/Chicago
BEGIN:STANDARD
TZNAME:CST
DTSTART:20241103T020000
TZOFFSETFROM:-0500
TZOFFSETTO:-0600
RDATE:20251102T020000
END:STANDARD
BEGIN:DAYLIGHT
TZNAME:CDT
DTSTART:20240310T020000
TZOFFSETFROM:-0600
TZOFFSETTO:-0500
RDATE:20250309T020000
RDATE:20260308T020000
END:DAYLIGHT
END:VTIMEZONE
BEGIN:VEVENT
UID:535da016-b591-4833-b298-5bcd4171c11c
DTSTAMP:20260419T173850Z
DESCRIPTION:This GivingTuesday\, a global celebration of generosity\, we in
 vite you to support Day Spring's mission of empowering adults with disabil
 ities to live joyful and fulfilling lives. This year\, instead of monetary
  gifts\, we’re asking for donations from our wish list to help upgrade our
  six residential homes. With Black Friday and Cyber Monday deals right aro
 und the corner\, keep Day Spring in mind during your holiday shopping and 
 join us in spreading joy and empowerment this holiday season!\n\nYour cont
 ributions will directly provide the supplies and tools needed to create sp
 aces that foster comfort\, independence\, and community. At Day Spring\, w
 e believe a home is the foundation for how we perceive and engage with the
  world. Together\, let’s make a meaningful impact this season of giving!
DTSTART;TZID=America/Chicago:20241203T050000
DTEND;TZID=America/Chicago:20241203T050001
LOCATION:https://www.amazon.com/hz/wishlist/ls/3VXT1FCMRWFZW?ref_=abls_nvfl
 y_swo#
SUMMARY:Giving Tuesday
END:VEVENT
END:VCALENDAR
