BEGIN:VCALENDAR
VERSION:2.0
PRODID:-//www.dayspringky.org//NONSGML kigkonsult.se iCalcreator 2.30.10//
CALSCALE:GREGORIAN
METHOD:PUBLISH
UID:f4655129-dac2-4f86-86f3-2731abcd25f8
X-WR-CALDESC:Join us for our second annual fundraising gala! Purchase ticke
 ts here: https://dayspringky.networkforgood.com/events/80440-the-2nd-annua
 l-horizon-of-hope-gala
X-WR-RELCALID:44475ea04d8b323a65ca1f3673ec7ed8
X-WR-TIMEZONE:America/Chicago
BEGIN:VTIMEZONE
TZID:America/Chicago
BEGIN:STANDARD
TZNAME:CST
DTSTART:20241103T020000
TZOFFSETFROM:-0500
TZOFFSETTO:-0600
RDATE:20251102T020000
END:STANDARD
BEGIN:DAYLIGHT
TZNAME:CDT
DTSTART:20250309T020000
TZOFFSETFROM:-0600
TZOFFSETTO:-0500
RDATE:20260308T020000
END:DAYLIGHT
END:VTIMEZONE
BEGIN:VEVENT
UID:ef456f46-a7f5-4054-9aa4-9b4ef9291ee9
DTSTAMP:20260419T154304Z
DESCRIPTION:Join us for our second annual fundraising gala! Purchase ticket
 s here: https://dayspringky.networkforgood.com/events/80440-the-2nd-annual
 -horizon-of-hope-gala
DTSTART;TZID=America/Chicago:20250322T180000
DTEND;TZID=America/Chicago:20250322T230000
LOCATION:421 W Market St\,\, Louisville\, KY 40202 US
SUMMARY:Horizon of Hope Gala
END:VEVENT
END:VCALENDAR
