BEGIN:VCALENDAR
VERSION:2.0
PRODID:-//www.dayspringky.org//NONSGML kigkonsult.se iCalcreator 2.30.10//
CALSCALE:GREGORIAN
METHOD:PUBLISH
UID:7b720f49-1d30-45f5-86f7-ecc0057434e6
X-WR-CALDESC:We’re excited to invite you to participate in Day Spring’s Spl
 it the Pot Raffle—your chance to win up to $5\,000 while supporting a grea
 t cause! Whether or not you’re attending our upcoming Golf Classic\, you c
 an still join the fun and make an impact.\n\nHow it works:\n\nOnly 200 tic
 kets available – giving you great odds to win! $50 per entry.\n\n📅Date: Oc
 tober 13\, 2025\n📍Location: Wildwood Country Club\n🕕Time: 6:00 PM EDT\n🎥Wa
 tch live on Facebook: facebook.com/dayspringky\n\nYou do not need to be pr
 esent to win!\n\nAfter registering\, you’ll receive a physical ticket in t
 he mail with your unique number. If you’re the lucky winner\, we’ll contac
 t you directly by phone and email.\n\nDon’t miss this exciting opportunity
  to win big while enriching the lives of adults with intellectual and deve
 lopmental disabilities.\n\nThank you for your support\, and good luck!\n
X-WR-RELCALID:28b563300dd5493bb972ee0752039b48
X-WR-TIMEZONE:America/Chicago
BEGIN:VTIMEZONE
TZID:America/Chicago
BEGIN:STANDARD
TZNAME:CST
DTSTART:20241103T020000
TZOFFSETFROM:-0500
TZOFFSETTO:-0600
RDATE:20251102T020000
RDATE:20261101T020000
END:STANDARD
BEGIN:DAYLIGHT
TZNAME:CDT
DTSTART:20250309T020000
TZOFFSETFROM:-0600
TZOFFSETTO:-0500
RDATE:20260308T020000
END:DAYLIGHT
END:VTIMEZONE
BEGIN:VEVENT
UID:81bd2782-56fa-438f-97e7-a622cc63b538
DTSTAMP:20260419T154236Z
DESCRIPTION:We’re excited to invite you to participate in Day Spring’s Spli
 t the Pot Raffle—your chance to win up to $5\,000 while supporting a great
  cause! Whether or not you’re attending our upcoming Golf Classic\, you ca
 n still join the fun and make an impact.\n\nHow it works:\n\nOnly 200 tick
 ets available – giving you great odds to win! $50 per entry.\n\n📅Date: Oct
 ober 13\, 2025\n📍Location: Wildwood Country Club\n🕕Time: 6:00 PM EDT\n🎥Wat
 ch live on Facebook: facebook.com/dayspringky\n\nYou do not need to be pre
 sent to win!\n\nAfter registering\, you’ll receive a physical ticket in th
 e mail with your unique number. If you’re the lucky winner\, we’ll contact
  you directly by phone and email.\n\nDon’t miss this exciting opportunity 
 to win big while enriching the lives of adults with intellectual and devel
 opmental disabilities.\n\nThank you for your support\, and good luck!\n
DTSTART;TZID=America/Chicago:20250819T050000
DTEND;TZID=America/Chicago:20251013T050001
LOCATION:
SUMMARY:Split the Pot Raffle
END:VEVENT
END:VCALENDAR
