BEGIN:VCALENDAR
VERSION:2.0
PRODID:-//www.dayspringky.org//NONSGML kigkonsult.se iCalcreator 2.30.10//
CALSCALE:GREGORIAN
METHOD:PUBLISH
UID:1d7f5146-0171-418e-891a-1f6b0d6a38eb
X-WR-CALDESC:
X-WR-RELCALID:623389289288affbc84dd05e5dc184aa
X-WR-TIMEZONE:America/Chicago
BEGIN:VTIMEZONE
TZID:America/Chicago
BEGIN:STANDARD
TZNAME:CST
DTSTART:20241103T020000
TZOFFSETFROM:-0500
TZOFFSETTO:-0600
RDATE:20251102T020000
RDATE:20261101T020000
END:STANDARD
BEGIN:DAYLIGHT
TZNAME:CDT
DTSTART:20250309T020000
TZOFFSETFROM:-0600
TZOFFSETTO:-0500
RDATE:20260308T020000
RDATE:20270314T020000
END:DAYLIGHT
END:VTIMEZONE
BEGIN:VEVENT
UID:8e0f4d51-120b-4127-880a-5b2ae20a449d
DTSTAMP:20260419T173758Z
DESCRIPTION:
DTSTART;TZID=America/Chicago:20251015T120000
DTEND;TZID=America/Chicago:20251015T130000
LOCATION:3417 Community Horizon Circle\, Louisville\, KY 40213 US
SUMMARY:Lunch & Learn
END:VEVENT
END:VCALENDAR
